BEGIN:VCALENDAR
VERSION:2.0
PRODID:-//tandcschool.org//NONSGML kigkonsult.se iCalcreator 2.30.10//
CALSCALE:GREGORIAN
METHOD:PUBLISH
UID:5af5bc6d-2ad5-4fda-b9ba-f1abb829af3f
X-WR-CALDESC:
X-WR-RELCALID:f804a0d84573a74f4489f167286d9101
X-WR-TIMEZONE:America/Chicago
BEGIN:VTIMEZONE
TZID:America/Chicago
BEGIN:STANDARD
TZNAME:CST
DTSTART:20231105T020000
TZOFFSETFROM:-0500
TZOFFSETTO:-0600
RDATE:20241103T020000
RDATE:20251102T020000
END:STANDARD
BEGIN:DAYLIGHT
TZNAME:CDT
DTSTART:20240310T020000
TZOFFSETFROM:-0600
TZOFFSETTO:-0500
RDATE:20250309T020000
RDATE:20260308T020000
END:DAYLIGHT
END:VTIMEZONE
BEGIN:VEVENT
UID:f47713e0-42f8-4618-b609-bc728e444fa5
DTSTAMP:20260423T180546Z
DESCRIPTION:
DTSTART;TZID=America/Chicago:20240908T050000
DTEND;TZID=America/Chicago:20240908T050001
LOCATION:
SUMMARY:8 Habits of the Heart: Nurturing Attitude
END:VEVENT
END:VCALENDAR
