BEGIN:VCALENDAR
VERSION:2.0
PRODID:-//tandcschool.org//NONSGML kigkonsult.se iCalcreator 2.30.10//
CALSCALE:GREGORIAN
METHOD:PUBLISH
UID:5d0c7fc4-cad2-4d81-ae9b-b96b7619368d
X-WR-CALDESC:
X-WR-RELCALID:e888935a48a33f41357edc5b64878a2e
X-WR-TIMEZONE:America/Chicago
BEGIN:VTIMEZONE
TZID:America/Chicago
BEGIN:STANDARD
TZNAME:CST
DTSTART:20231105T020000
TZOFFSETFROM:-0500
TZOFFSETTO:-0600
RDATE:20241103T020000
RDATE:20251102T020000
END:STANDARD
BEGIN:DAYLIGHT
TZNAME:CDT
DTSTART:20240310T020000
TZOFFSETFROM:-0600
TZOFFSETTO:-0500
RDATE:20250309T020000
RDATE:20260308T020000
END:DAYLIGHT
END:VTIMEZONE
BEGIN:VEVENT
UID:ff556001-2a12-40e8-b880-91d21d0882dc
DTSTAMP:20260423T175638Z
DESCRIPTION:
DTSTART;TZID=America/Chicago:20240906T050000
DTEND;TZID=America/Chicago:20240906T050001
LOCATION:
SUMMARY:Fast Food Friday
END:VEVENT
END:VCALENDAR
