BEGIN:VCALENDAR
VERSION:2.0
PRODID:-//tandcschool.org//NONSGML kigkonsult.se iCalcreator 2.30.10//
CALSCALE:GREGORIAN
METHOD:PUBLISH
UID:da82d872-0ffc-407a-b88f-038f0a428614
X-WR-CALDESC:
X-WR-RELCALID:ef5a02ce2b9af79901c13df62b027e66
X-WR-TIMEZONE:America/Chicago
BEGIN:VTIMEZONE
TZID:America/Chicago
BEGIN:STANDARD
TZNAME:CST
DTSTART:20231105T020000
TZOFFSETFROM:-0500
TZOFFSETTO:-0600
RDATE:20241103T020000
RDATE:20251102T020000
END:STANDARD
BEGIN:DAYLIGHT
TZNAME:CDT
DTSTART:20240310T020000
TZOFFSETFROM:-0600
TZOFFSETTO:-0500
RDATE:20250309T020000
END:DAYLIGHT
END:VTIMEZONE
BEGIN:VEVENT
UID:60bd64bd-77b0-48be-9269-792f6e251505
DTSTAMP:20260423T180339Z
DESCRIPTION:
DTSTART;TZID=America/Chicago:20240905T152000
DTEND;TZID=America/Chicago:20240905T160000
LOCATION:
SUMMARY:LS Running Club
END:VEVENT
END:VCALENDAR
