BEGIN:VCALENDAR
VERSION:2.0
PRODID:-//tandcschool.org//NONSGML kigkonsult.se iCalcreator 2.30.10//
CALSCALE:GREGORIAN
METHOD:PUBLISH
UID:18bede6d-dc8f-4695-8550-587b109eb6a8
X-WR-CALDESC:
X-WR-RELCALID:b5dd631e2f0c079b53674072f78c9e9c
X-WR-TIMEZONE:America/Chicago
BEGIN:VTIMEZONE
TZID:America/Chicago
BEGIN:STANDARD
TZNAME:CST
DTSTART:20231105T020000
TZOFFSETFROM:-0500
TZOFFSETTO:-0600
RDATE:20241103T020000
RDATE:20251102T020000
END:STANDARD
BEGIN:DAYLIGHT
TZNAME:CDT
DTSTART:20240310T020000
TZOFFSETFROM:-0600
TZOFFSETTO:-0500
RDATE:20250309T020000
END:DAYLIGHT
END:VTIMEZONE
BEGIN:VEVENT
UID:833d7882-6be4-4bd4-93cd-4442efb06e2b
DTSTAMP:20260423T180206Z
DESCRIPTION:
DTSTART;TZID=America/Chicago:20240905T150000
DTEND;TZID=America/Chicago:20240905T154500
LOCATION:
SUMMARY:MS Running Club
END:VEVENT
END:VCALENDAR
