BEGIN:VCALENDAR
VERSION:2.0
PRODID:-//tandcschool.org//NONSGML kigkonsult.se iCalcreator 2.30.10//
CALSCALE:GREGORIAN
METHOD:PUBLISH
UID:2f9dc4e4-09a7-4753-97b2-8a8f2dd23bfa
X-WR-CALDESC:
X-WR-RELCALID:d4bd5752380b0d7c8de230a01052e250
X-WR-TIMEZONE:America/Chicago
BEGIN:VTIMEZONE
TZID:America/Chicago
BEGIN:STANDARD
TZNAME:CST
DTSTART:20231105T020000
TZOFFSETFROM:-0500
TZOFFSETTO:-0600
RDATE:20241103T020000
RDATE:20251102T020000
END:STANDARD
BEGIN:DAYLIGHT
TZNAME:CDT
DTSTART:20240310T020000
TZOFFSETFROM:-0600
TZOFFSETTO:-0500
RDATE:20250309T020000
END:DAYLIGHT
END:VTIMEZONE
BEGIN:VEVENT
UID:8dabe187-25e8-424b-b213-91afa35b380c
DTSTAMP:20260423T180504Z
DESCRIPTION:
DTSTART;TZID=America/Chicago:20240905T150000
DTEND;TZID=America/Chicago:20240905T154500
LOCATION:
SUMMARY:Crochet Club
END:VEVENT
END:VCALENDAR
