BEGIN:VCALENDAR
VERSION:2.0
PRODID:-//tandcschool.org//NONSGML kigkonsult.se iCalcreator 2.30.10//
CALSCALE:GREGORIAN
METHOD:PUBLISH
UID:237451dd-26e5-4e49-9d6a-a479a4a7a04c
X-WR-CALDESC:
X-WR-RELCALID:9b3a4e0685d7acf6180b0c6e7fb7f6a5
X-WR-TIMEZONE:America/Chicago
BEGIN:VTIMEZONE
TZID:America/Chicago
BEGIN:STANDARD
TZNAME:CST
DTSTART:20231105T020000
TZOFFSETFROM:-0500
TZOFFSETTO:-0600
RDATE:20241103T020000
RDATE:20251102T020000
END:STANDARD
BEGIN:DAYLIGHT
TZNAME:CDT
DTSTART:20240310T020000
TZOFFSETFROM:-0600
TZOFFSETTO:-0500
RDATE:20250309T020000
END:DAYLIGHT
END:VTIMEZONE
BEGIN:VEVENT
UID:9ccf39c0-1313-44e5-ad14-242a459de029
DTSTAMP:20260423T193536Z
DESCRIPTION:
DTSTART;TZID=America/Chicago:20240815T050000
DTEND;TZID=America/Chicago:20240815T050001
LOCATION:
SUMMARY:First Day of School
END:VEVENT
END:VCALENDAR
