BEGIN:VCALENDAR
VERSION:2.0
PRODID:-//tandcschool.org//NONSGML kigkonsult.se iCalcreator 2.30.10//
CALSCALE:GREGORIAN
METHOD:PUBLISH
UID:eb208691-f739-492c-bf7d-4d1929b9e922
X-WR-CALDESC:
X-WR-RELCALID:d3b1c735876edaebc23adaf144bae0f6
X-WR-TIMEZONE:America/Chicago
BEGIN:VTIMEZONE
TZID:America/Chicago
BEGIN:STANDARD
TZNAME:CST
DTSTART:20231105T020000
TZOFFSETFROM:-0500
TZOFFSETTO:-0600
RDATE:20241103T020000
RDATE:20251102T020000
END:STANDARD
BEGIN:DAYLIGHT
TZNAME:CDT
DTSTART:20240310T020000
TZOFFSETFROM:-0600
TZOFFSETTO:-0500
RDATE:20250309T020000
END:DAYLIGHT
END:VTIMEZONE
BEGIN:VEVENT
UID:b41bd176-318c-426d-8222-807c9cb8820f
DTSTAMP:20260423T193402Z
DESCRIPTION:
DTSTART;TZID=America/Chicago:20240812T050000
DTEND;TZID=America/Chicago:20240814T050001
LOCATION:
SUMMARY:Teacher In-Service
END:VEVENT
END:VCALENDAR
