BEGIN:VCALENDAR
VERSION:2.0
PRODID:-//tandcschool.org//NONSGML kigkonsult.se iCalcreator 2.30.10//
CALSCALE:GREGORIAN
METHOD:PUBLISH
UID:7dd1c940-326a-4f08-870b-5e02312d5ac6
X-WR-CALDESC:
X-WR-RELCALID:cc5ed0e026d0d4f447231aadefcf74b9
X-WR-TIMEZONE:America/Chicago
BEGIN:VTIMEZONE
TZID:America/Chicago
BEGIN:STANDARD
TZNAME:CST
DTSTART:20231105T020000
TZOFFSETFROM:-0500
TZOFFSETTO:-0600
RDATE:20241103T020000
RDATE:20251102T020000
END:STANDARD
BEGIN:DAYLIGHT
TZNAME:CDT
DTSTART:20240310T020000
TZOFFSETFROM:-0600
TZOFFSETTO:-0500
RDATE:20250309T020000
END:DAYLIGHT
END:VTIMEZONE
BEGIN:VEVENT
UID:ee298e1e-1f81-4ea5-ba48-9119805027af
DTSTAMP:20260423T210546Z
DESCRIPTION:
DTSTART;TZID=America/Chicago:20240704T000000
DTEND;TZID=America/Chicago:20240704T235900
LOCATION:
SUMMARY:Independence Day
END:VEVENT
END:VCALENDAR
