BEGIN:VCALENDAR
VERSION:2.0
PRODID:-//tandcschool.org//NONSGML kigkonsult.se iCalcreator 2.30.10//
CALSCALE:GREGORIAN
METHOD:PUBLISH
UID:a4e7cff1-23bf-4603-b34c-255717f1cd59
X-WR-CALDESC:Students dismissed at 11AM\nNo Aftercare
X-WR-RELCALID:9ca9164963c553d3f64a355028881c1a
X-WR-TIMEZONE:America/Chicago
BEGIN:VTIMEZONE
TZID:America/Chicago
BEGIN:STANDARD
TZNAME:CST
DTSTART:20231105T020000
TZOFFSETFROM:-0500
TZOFFSETTO:-0600
RDATE:20241103T020000
RDATE:20251102T020000
END:STANDARD
BEGIN:DAYLIGHT
TZNAME:CDT
DTSTART:20240310T020000
TZOFFSETFROM:-0600
TZOFFSETTO:-0500
RDATE:20250309T020000
END:DAYLIGHT
END:VTIMEZONE
BEGIN:VEVENT
UID:594d08d0-b652-4be5-8c95-d0a5a2e9609a
DTSTAMP:20260424T004451Z
DESCRIPTION:Students dismissed at 11AM\nNo Aftercare
DTSTART;TZID=America/Chicago:20240521T080000
DTEND;TZID=America/Chicago:20240521T110000
LOCATION:
SUMMARY:Last Day of School
END:VEVENT
END:VCALENDAR
