BEGIN:VCALENDAR
VERSION:2.0
PRODID:-//tandcschool.org//NONSGML kigkonsult.se iCalcreator 2.30.10//
CALSCALE:GREGORIAN
METHOD:PUBLISH
UID:d5628233-d834-42d8-aea7-0f30d62b04e1
X-WR-CALDESC:
X-WR-RELCALID:48233912008b44f76fd8eba03e9d974e
X-WR-TIMEZONE:America/Chicago
BEGIN:VTIMEZONE
TZID:America/Chicago
BEGIN:STANDARD
TZNAME:CST
DTSTART:20231105T020000
TZOFFSETFROM:-0500
TZOFFSETTO:-0600
RDATE:20241103T020000
RDATE:20251102T020000
END:STANDARD
BEGIN:DAYLIGHT
TZNAME:CDT
DTSTART:20240310T020000
TZOFFSETFROM:-0600
TZOFFSETTO:-0500
RDATE:20250309T020000
END:DAYLIGHT
END:VTIMEZONE
BEGIN:VEVENT
UID:73adbc50-bc40-446c-af6a-eeab2f82b430
DTSTAMP:20260424T004312Z
DESCRIPTION:
DTSTART;TZID=America/Chicago:20240521T000000
DTEND;TZID=America/Chicago:20240521T235900
LOCATION:
SUMMARY:End of 4th Quarter
END:VEVENT
END:VCALENDAR
