BEGIN:VCALENDAR
VERSION:2.0
PRODID:-//tandcschool.org//NONSGML kigkonsult.se iCalcreator 2.30.10//
CALSCALE:GREGORIAN
METHOD:PUBLISH
UID:ace1e1b1-c37c-4eb2-9679-52caf7e7bbb6
X-WR-CALDESC:
X-WR-RELCALID:030d9122888b51c3881bc439929ca649
X-WR-TIMEZONE:America/Chicago
BEGIN:VTIMEZONE
TZID:America/Chicago
BEGIN:STANDARD
TZNAME:CST
DTSTART:20231105T020000
TZOFFSETFROM:-0500
TZOFFSETTO:-0600
RDATE:20241103T020000
RDATE:20251102T020000
END:STANDARD
BEGIN:DAYLIGHT
TZNAME:CDT
DTSTART:20240310T020000
TZOFFSETFROM:-0600
TZOFFSETTO:-0500
RDATE:20250309T020000
END:DAYLIGHT
END:VTIMEZONE
BEGIN:VEVENT
UID:d0aa6718-5fbb-4863-af03-c796a19d01e3
DTSTAMP:20260424T004149Z
DESCRIPTION:
DTSTART;TZID=America/Chicago:20240521T000000
DTEND;TZID=America/Chicago:20240521T235900
LOCATION:
SUMMARY:End of 2nd Semster
END:VEVENT
END:VCALENDAR
