BEGIN:VCALENDAR
VERSION:2.0
PRODID:-//tandcschool.org//NONSGML kigkonsult.se iCalcreator 2.30.10//
CALSCALE:GREGORIAN
METHOD:PUBLISH
UID:40d46359-cc4d-41ad-be39-3ae832f98b9b
X-WR-CALDESC:
X-WR-RELCALID:46c5d26a9088a59f5e085f2642dfaafc
X-WR-TIMEZONE:America/Chicago
BEGIN:VTIMEZONE
TZID:America/Chicago
BEGIN:STANDARD
TZNAME:CST
DTSTART:20231105T020000
TZOFFSETFROM:-0500
TZOFFSETTO:-0600
RDATE:20241103T020000
RDATE:20251102T020000
END:STANDARD
BEGIN:DAYLIGHT
TZNAME:CDT
DTSTART:20240310T020000
TZOFFSETFROM:-0600
TZOFFSETTO:-0500
RDATE:20250309T020000
END:DAYLIGHT
END:VTIMEZONE
BEGIN:VEVENT
UID:ccf2b692-8453-4de8-a6e4-917328bf01c6
DTSTAMP:20260424T003957Z
DESCRIPTION:
DTSTART;TZID=America/Chicago:20240520T081500
DTEND;TZID=America/Chicago:20240520T091500
LOCATION:
SUMMARY:MS Awards Assembly
END:VEVENT
END:VCALENDAR
