BEGIN:VCALENDAR
VERSION:2.0
PRODID:-//tandcschool.org//NONSGML kigkonsult.se iCalcreator 2.30.10//
CALSCALE:GREGORIAN
METHOD:PUBLISH
UID:2d53f03b-494c-4ab0-ab68-93f0ecdd6b83
X-WR-CALDESC:
X-WR-RELCALID:abde48904ec7e891ae2f11cfcee8c1c2
X-WR-TIMEZONE:America/Chicago
BEGIN:VTIMEZONE
TZID:America/Chicago
BEGIN:STANDARD
TZNAME:CST
DTSTART:20231105T020000
TZOFFSETFROM:-0500
TZOFFSETTO:-0600
RDATE:20241103T020000
RDATE:20251102T020000
END:STANDARD
BEGIN:DAYLIGHT
TZNAME:CDT
DTSTART:20240310T020000
TZOFFSETFROM:-0600
TZOFFSETTO:-0500
RDATE:20250309T020000
END:DAYLIGHT
END:VTIMEZONE
BEGIN:VEVENT
UID:20498214-f8ae-4636-a568-a97e18c21786
DTSTAMP:20260424T003957Z
DESCRIPTION:
DTSTART;TZID=America/Chicago:20240520T100000
DTEND;TZID=America/Chicago:20240520T110000
LOCATION:
SUMMARY:LS Awards Assembly
END:VEVENT
END:VCALENDAR
