BEGIN:VCALENDAR
VERSION:2.0
PRODID:-//tandcschool.org//NONSGML kigkonsult.se iCalcreator 2.30.10//
CALSCALE:GREGORIAN
METHOD:PUBLISH
UID:8fc5b76a-d766-4330-9233-9725577c9d5a
X-WR-CALDESC:
X-WR-RELCALID:c1974884503446cd7ea127649d0327f9
X-WR-TIMEZONE:America/Chicago
BEGIN:VTIMEZONE
TZID:America/Chicago
BEGIN:STANDARD
TZNAME:CST
DTSTART:20231105T020000
TZOFFSETFROM:-0500
TZOFFSETTO:-0600
RDATE:20241103T020000
RDATE:20251102T020000
END:STANDARD
BEGIN:DAYLIGHT
TZNAME:CDT
DTSTART:20240310T020000
TZOFFSETFROM:-0600
TZOFFSETTO:-0500
RDATE:20250309T020000
END:DAYLIGHT
END:VTIMEZONE
BEGIN:VEVENT
UID:1fa00c2a-d213-4c45-88b1-8622e710379e
DTSTAMP:20260424T004317Z
DESCRIPTION:
DTSTART;TZID=America/Chicago:20240517T150000
DTEND;TZID=America/Chicago:20240517T154500
LOCATION:
SUMMARY:E-Gaming Club B
END:VEVENT
END:VCALENDAR
