BEGIN:VCALENDAR
VERSION:2.0
PRODID:-//tandcschool.org//NONSGML kigkonsult.se iCalcreator 2.30.10//
CALSCALE:GREGORIAN
METHOD:PUBLISH
UID:e187030c-39cb-4991-9bdc-6159efb6d556
X-WR-CALDESC:
X-WR-RELCALID:887069748e58f8c2dedae1a968743867
X-WR-TIMEZONE:America/Chicago
BEGIN:VTIMEZONE
TZID:America/Chicago
BEGIN:STANDARD
TZNAME:CST
DTSTART:20231105T020000
TZOFFSETFROM:-0500
TZOFFSETTO:-0600
RDATE:20241103T020000
RDATE:20251102T020000
END:STANDARD
BEGIN:DAYLIGHT
TZNAME:CDT
DTSTART:20240310T020000
TZOFFSETFROM:-0600
TZOFFSETTO:-0500
RDATE:20250309T020000
END:DAYLIGHT
END:VTIMEZONE
BEGIN:VEVENT
UID:7d4983db-f212-40a7-ab46-965aba677713
DTSTAMP:20260424T004151Z
DESCRIPTION:
DTSTART;TZID=America/Chicago:20240516T133000
DTEND;TZID=America/Chicago:20240516T143000
LOCATION:
SUMMARY:Senior Graduation Practice
END:VEVENT
END:VCALENDAR
