BEGIN:VCALENDAR
VERSION:2.0
PRODID:-//tandcschool.org//NONSGML kigkonsult.se iCalcreator 2.30.10//
CALSCALE:GREGORIAN
METHOD:PUBLISH
UID:abc68c5a-b228-46e0-acd2-3e3853d670b0
X-WR-CALDESC:
X-WR-RELCALID:5cea17dca2aa468e1f6e2fc9e391775a
X-WR-TIMEZONE:America/Chicago
BEGIN:VTIMEZONE
TZID:America/Chicago
BEGIN:STANDARD
TZNAME:CST
DTSTART:20231105T020000
TZOFFSETFROM:-0500
TZOFFSETTO:-0600
RDATE:20241103T020000
RDATE:20251102T020000
END:STANDARD
BEGIN:DAYLIGHT
TZNAME:CDT
DTSTART:20240310T020000
TZOFFSETFROM:-0600
TZOFFSETTO:-0500
RDATE:20250309T020000
END:DAYLIGHT
END:VTIMEZONE
BEGIN:VEVENT
UID:eb26812e-7290-4b24-9696-6b2849034c98
DTSTAMP:20260424T004618Z
DESCRIPTION:
DTSTART;TZID=America/Chicago:20240515T050000
DTEND;TZID=America/Chicago:20240515T050001
LOCATION:
SUMMARY:Student of the Month Lunch
END:VEVENT
END:VCALENDAR
