BEGIN:VCALENDAR
VERSION:2.0
PRODID:-//tandcschool.org//NONSGML kigkonsult.se iCalcreator 2.30.10//
CALSCALE:GREGORIAN
METHOD:PUBLISH
UID:ab5f5eb9-dc12-4ab9-8097-ae1f16d374f3
X-WR-CALDESC:
X-WR-RELCALID:8a4aa6b093ebec2c585fb4acf9941954
X-WR-TIMEZONE:America/Chicago
BEGIN:VTIMEZONE
TZID:America/Chicago
BEGIN:STANDARD
TZNAME:CST
DTSTART:20231105T020000
TZOFFSETFROM:-0500
TZOFFSETTO:-0600
RDATE:20241103T020000
RDATE:20251102T020000
END:STANDARD
BEGIN:DAYLIGHT
TZNAME:CDT
DTSTART:20240310T020000
TZOFFSETFROM:-0600
TZOFFSETTO:-0500
RDATE:20250309T020000
END:DAYLIGHT
END:VTIMEZONE
BEGIN:VEVENT
UID:80bbd83f-7d2d-42c6-a3ff-87078f215afa
DTSTAMP:20260424T004029Z
DESCRIPTION:
DTSTART;TZID=America/Chicago:20240515T140000
DTEND;TZID=America/Chicago:20240515T150000
LOCATION:
SUMMARY:MS Dodgeball
END:VEVENT
END:VCALENDAR
