BEGIN:VCALENDAR
VERSION:2.0
PRODID:-//tandcschool.org//NONSGML kigkonsult.se iCalcreator 2.30.10//
CALSCALE:GREGORIAN
METHOD:PUBLISH
UID:15403161-f025-43d6-bed4-0bbb541e5a81
X-WR-CALDESC:
X-WR-RELCALID:ed58891d6b7558fcc3fcf3b7c849a5a4
X-WR-TIMEZONE:America/Chicago
BEGIN:VTIMEZONE
TZID:America/Chicago
BEGIN:STANDARD
TZNAME:CST
DTSTART:20231105T020000
TZOFFSETFROM:-0500
TZOFFSETTO:-0600
RDATE:20241103T020000
RDATE:20251102T020000
END:STANDARD
BEGIN:DAYLIGHT
TZNAME:CDT
DTSTART:20240310T020000
TZOFFSETFROM:-0600
TZOFFSETTO:-0500
RDATE:20250309T020000
END:DAYLIGHT
END:VTIMEZONE
BEGIN:VEVENT
UID:aec58909-bbd3-4230-8bd2-c0a1cc4f803e
DTSTAMP:20260424T004116Z
DESCRIPTION:
DTSTART;TZID=America/Chicago:20240514T050000
DTEND;TZID=America/Chicago:20240514T050001
LOCATION:
SUMMARY:T&C Video Shoot
END:VEVENT
END:VCALENDAR
