BEGIN:VCALENDAR
VERSION:2.0
PRODID:-//tandcschool.org//NONSGML kigkonsult.se iCalcreator 2.30.10//
CALSCALE:GREGORIAN
METHOD:PUBLISH
UID:06b91002-67b8-46b4-86aa-1cc27b9573e5
X-WR-CALDESC:
X-WR-RELCALID:674fee2cab7f7cd9a51e410d80b242fb
X-WR-TIMEZONE:America/Chicago
BEGIN:VTIMEZONE
TZID:America/Chicago
BEGIN:STANDARD
TZNAME:CST
DTSTART:20231105T020000
TZOFFSETFROM:-0500
TZOFFSETTO:-0600
RDATE:20241103T020000
RDATE:20251102T020000
END:STANDARD
BEGIN:DAYLIGHT
TZNAME:CDT
DTSTART:20240310T020000
TZOFFSETFROM:-0600
TZOFFSETTO:-0500
RDATE:20250309T020000
END:DAYLIGHT
END:VTIMEZONE
BEGIN:VEVENT
UID:ad78cf55-6703-4239-831c-2241234d56d2
DTSTAMP:20260424T004533Z
DESCRIPTION:
DTSTART;TZID=America/Chicago:20240513T150000
DTEND;TZID=America/Chicago:20240513T154500
LOCATION:
SUMMARY:Chess Club
END:VEVENT
END:VCALENDAR
