BEGIN:VCALENDAR
VERSION:2.0
PRODID:-//tandcschool.org//NONSGML kigkonsult.se iCalcreator 2.30.10//
CALSCALE:GREGORIAN
METHOD:PUBLISH
UID:934da664-1bb1-4dab-be65-7aa50bb27a83
X-WR-CALDESC:
X-WR-RELCALID:9be3a7fb4ec05fb1b88d11b4dc53d833
X-WR-TIMEZONE:America/Chicago
BEGIN:VTIMEZONE
TZID:America/Chicago
BEGIN:STANDARD
TZNAME:CST
DTSTART:20231105T020000
TZOFFSETFROM:-0500
TZOFFSETTO:-0600
RDATE:20241103T020000
RDATE:20251102T020000
END:STANDARD
BEGIN:DAYLIGHT
TZNAME:CDT
DTSTART:20240310T020000
TZOFFSETFROM:-0600
TZOFFSETTO:-0500
RDATE:20250309T020000
END:DAYLIGHT
END:VTIMEZONE
BEGIN:VEVENT
UID:826a235a-5c3b-48cc-9561-db660ef1b069
DTSTAMP:20260424T004310Z
DESCRIPTION:
DTSTART;TZID=America/Chicago:20240510T050000
DTEND;TZID=America/Chicago:20240510T050001
LOCATION:
SUMMARY:Senior Ditch Day
END:VEVENT
END:VCALENDAR
