BEGIN:VCALENDAR
VERSION:2.0
PRODID:-//tandcschool.org//NONSGML kigkonsult.se iCalcreator 2.30.10//
CALSCALE:GREGORIAN
METHOD:PUBLISH
UID:024a7900-e13b-4b47-9bee-8fd9aafe0acd
X-WR-CALDESC:
X-WR-RELCALID:edec4c7509896c5504cd0aaf3bd8e6a3
X-WR-TIMEZONE:America/Chicago
BEGIN:VTIMEZONE
TZID:America/Chicago
BEGIN:STANDARD
TZNAME:CST
DTSTART:20231105T020000
TZOFFSETFROM:-0500
TZOFFSETTO:-0600
RDATE:20241103T020000
RDATE:20251102T020000
END:STANDARD
BEGIN:DAYLIGHT
TZNAME:CDT
DTSTART:20240310T020000
TZOFFSETFROM:-0600
TZOFFSETTO:-0500
RDATE:20250309T020000
END:DAYLIGHT
END:VTIMEZONE
BEGIN:VEVENT
UID:d9e1f390-38d4-4c5d-b894-b5ec27205131
DTSTAMP:20260424T004507Z
DESCRIPTION:
DTSTART;TZID=America/Chicago:20240510T050000
DTEND;TZID=America/Chicago:20240510T050001
LOCATION:
SUMMARY:Free Dress Day
END:VEVENT
END:VCALENDAR
