BEGIN:VCALENDAR
VERSION:2.0
PRODID:-//tandcschool.org//NONSGML kigkonsult.se iCalcreator 2.30.10//
CALSCALE:GREGORIAN
METHOD:PUBLISH
UID:7347daef-c24c-4558-bd9c-5edeb6a0767e
X-WR-CALDESC:
X-WR-RELCALID:b30cc42d1e412ca0b9d1277ac458b137
X-WR-TIMEZONE:America/Chicago
BEGIN:VTIMEZONE
TZID:America/Chicago
BEGIN:STANDARD
TZNAME:CST
DTSTART:20231105T020000
TZOFFSETFROM:-0500
TZOFFSETTO:-0600
RDATE:20241103T020000
RDATE:20251102T020000
END:STANDARD
BEGIN:DAYLIGHT
TZNAME:CDT
DTSTART:20240310T020000
TZOFFSETFROM:-0600
TZOFFSETTO:-0500
RDATE:20250309T020000
END:DAYLIGHT
END:VTIMEZONE
BEGIN:VEVENT
UID:cbf2264f-91e3-46b2-8ada-4a044626b011
DTSTAMP:20260424T004354Z
DESCRIPTION:
DTSTART;TZID=America/Chicago:20240510T150000
DTEND;TZID=America/Chicago:20240510T154500
LOCATION:
SUMMARY:E-Gaming Club A
END:VEVENT
END:VCALENDAR
