BEGIN:VCALENDAR
VERSION:2.0
PRODID:-//tandcschool.org//NONSGML kigkonsult.se iCalcreator 2.30.10//
CALSCALE:GREGORIAN
METHOD:PUBLISH
UID:ead2e6ed-2e61-42f2-aa74-23c7dd384e3f
X-WR-CALDESC:
X-WR-RELCALID:ca90d1311485a4aa99fc582266a227e3
X-WR-TIMEZONE:America/Chicago
BEGIN:VTIMEZONE
TZID:America/Chicago
BEGIN:STANDARD
TZNAME:CST
DTSTART:20231105T020000
TZOFFSETFROM:-0500
TZOFFSETTO:-0600
RDATE:20241103T020000
RDATE:20251102T020000
END:STANDARD
BEGIN:DAYLIGHT
TZNAME:CDT
DTSTART:20240310T020000
TZOFFSETFROM:-0600
TZOFFSETTO:-0500
RDATE:20250309T020000
END:DAYLIGHT
END:VTIMEZONE
BEGIN:VEVENT
UID:2876c97f-af40-4c6a-9c5a-05f59b2f5e4b
DTSTAMP:20260424T004449Z
DESCRIPTION:
DTSTART;TZID=America/Chicago:20240510T150000
DTEND;TZID=America/Chicago:20240510T154500
LOCATION:
SUMMARY:Astronomy Club
END:VEVENT
END:VCALENDAR
