BEGIN:VCALENDAR
VERSION:2.0
PRODID:-//tandcschool.org//NONSGML kigkonsult.se iCalcreator 2.30.10//
CALSCALE:GREGORIAN
METHOD:PUBLISH
UID:8efa46ff-dc36-40c3-9936-8ecca58c3ef2
X-WR-CALDESC:
X-WR-RELCALID:35087a00d318e1009a2f9525b7d36209
X-WR-TIMEZONE:America/Chicago
BEGIN:VTIMEZONE
TZID:America/Chicago
BEGIN:STANDARD
TZNAME:CST
DTSTART:20231105T020000
TZOFFSETFROM:-0500
TZOFFSETTO:-0600
RDATE:20241103T020000
RDATE:20251102T020000
END:STANDARD
BEGIN:DAYLIGHT
TZNAME:CDT
DTSTART:20240310T020000
TZOFFSETFROM:-0600
TZOFFSETTO:-0500
RDATE:20250309T020000
END:DAYLIGHT
END:VTIMEZONE
BEGIN:VEVENT
UID:518724d7-36c2-49a8-bf8f-0c9b898e7731
DTSTAMP:20260424T003958Z
DESCRIPTION:
DTSTART;TZID=America/Chicago:20240509T133000
DTEND;TZID=America/Chicago:20240509T150000
LOCATION:
SUMMARY:Spring Recital
END:VEVENT
END:VCALENDAR
