BEGIN:VCALENDAR
VERSION:2.0
PRODID:-//tandcschool.org//NONSGML kigkonsult.se iCalcreator 2.30.10//
CALSCALE:GREGORIAN
METHOD:PUBLISH
UID:44dbade2-f28b-4dc9-a248-c10aaa50ed4b
X-WR-CALDESC:
X-WR-RELCALID:e16a203f57f4345c04d140716d5dfd34
X-WR-TIMEZONE:America/Chicago
BEGIN:VTIMEZONE
TZID:America/Chicago
BEGIN:STANDARD
TZNAME:CST
DTSTART:20231105T020000
TZOFFSETFROM:-0500
TZOFFSETTO:-0600
RDATE:20241103T020000
RDATE:20251102T020000
END:STANDARD
BEGIN:DAYLIGHT
TZNAME:CDT
DTSTART:20240310T020000
TZOFFSETFROM:-0600
TZOFFSETTO:-0500
RDATE:20250309T020000
END:DAYLIGHT
END:VTIMEZONE
BEGIN:VEVENT
UID:0f7dc315-4465-4a35-96fc-5184fa6dc620
DTSTAMP:20260424T004506Z
DESCRIPTION:
DTSTART;TZID=America/Chicago:20240508T150000
DTEND;TZID=America/Chicago:20240508T154500
LOCATION:
SUMMARY:MS & HS Art Club
END:VEVENT
END:VCALENDAR
