BEGIN:VCALENDAR
VERSION:2.0
PRODID:-//tandcschool.org//NONSGML kigkonsult.se iCalcreator 2.30.10//
CALSCALE:GREGORIAN
METHOD:PUBLISH
UID:5ab7915f-8477-4019-a40f-1f2616932aa1
X-WR-CALDESC:
X-WR-RELCALID:5a6310f8454cede25cea1db4e92230e5
X-WR-TIMEZONE:America/Chicago
BEGIN:VTIMEZONE
TZID:America/Chicago
BEGIN:STANDARD
TZNAME:CST
DTSTART:20231105T020000
TZOFFSETFROM:-0500
TZOFFSETTO:-0600
RDATE:20241103T020000
RDATE:20251102T020000
END:STANDARD
BEGIN:DAYLIGHT
TZNAME:CDT
DTSTART:20240310T020000
TZOFFSETFROM:-0600
TZOFFSETTO:-0500
RDATE:20250309T020000
END:DAYLIGHT
END:VTIMEZONE
BEGIN:VEVENT
UID:bbe54531-cac8-4c36-b452-2c5af5e6d8b2
DTSTAMP:20260424T004353Z
DESCRIPTION:
DTSTART;TZID=America/Chicago:20240507T000000
DTEND;TZID=America/Chicago:20240507T235900
LOCATION:
SUMMARY:Teacher Appreciation Luncheon
END:VEVENT
END:VCALENDAR
