BEGIN:VCALENDAR
VERSION:2.0
PRODID:-//tandcschool.org//NONSGML kigkonsult.se iCalcreator 2.30.10//
CALSCALE:GREGORIAN
METHOD:PUBLISH
UID:73dd3994-17c3-41d2-bcbc-5e93daa8bec6
X-WR-CALDESC:
X-WR-RELCALID:dfb66ad694b6742d623a1beffd52456a
X-WR-TIMEZONE:America/Chicago
BEGIN:VTIMEZONE
TZID:America/Chicago
BEGIN:STANDARD
TZNAME:CST
DTSTART:20231105T020000
TZOFFSETFROM:-0500
TZOFFSETTO:-0600
RDATE:20241103T020000
RDATE:20251102T020000
END:STANDARD
BEGIN:DAYLIGHT
TZNAME:CDT
DTSTART:20240310T020000
TZOFFSETFROM:-0600
TZOFFSETTO:-0500
RDATE:20250309T020000
END:DAYLIGHT
END:VTIMEZONE
BEGIN:VEVENT
UID:572f84fe-d57d-4b94-b321-8a9b16c247c5
DTSTAMP:20260424T004158Z
DESCRIPTION:
DTSTART;TZID=America/Chicago:20240506T000000
DTEND;TZID=America/Chicago:20240510T235900
LOCATION:
SUMMARY:Teacher Appreciation Week
END:VEVENT
END:VCALENDAR
