BEGIN:VCALENDAR
VERSION:2.0
PRODID:-//tandcschool.org//NONSGML kigkonsult.se iCalcreator 2.30.10//
CALSCALE:GREGORIAN
METHOD:PUBLISH
UID:04d2d340-028a-40d9-ab39-c3abd7ba1308
X-WR-CALDESC:
X-WR-RELCALID:23eac97a66bf9a5cbf73093d9edde259
X-WR-TIMEZONE:America/Chicago
BEGIN:VTIMEZONE
TZID:America/Chicago
BEGIN:STANDARD
TZNAME:CST
DTSTART:20231105T020000
TZOFFSETFROM:-0500
TZOFFSETTO:-0600
RDATE:20241103T020000
RDATE:20251102T020000
END:STANDARD
BEGIN:DAYLIGHT
TZNAME:CDT
DTSTART:20240310T020000
TZOFFSETFROM:-0600
TZOFFSETTO:-0500
RDATE:20250309T020000
END:DAYLIGHT
END:VTIMEZONE
BEGIN:VEVENT
UID:6c36c5f3-0297-43e8-8faa-41cba308e5ae
DTSTAMP:20260424T004158Z
DESCRIPTION:
DTSTART;TZID=America/Chicago:20240506T150000
DTEND;TZID=America/Chicago:20240506T160000
LOCATION:
SUMMARY:LS & MS Art Club
END:VEVENT
END:VCALENDAR
