BEGIN:VCALENDAR
VERSION:2.0
PRODID:-//tandcschool.org//NONSGML kigkonsult.se iCalcreator 2.30.10//
CALSCALE:GREGORIAN
METHOD:PUBLISH
UID:df218edd-1a78-4627-8abf-3ee739a3e680
X-WR-CALDESC:
X-WR-RELCALID:5b118a739ea2c66aaca3979b55b8d6e2
X-WR-TIMEZONE:America/Chicago
BEGIN:VTIMEZONE
TZID:America/Chicago
BEGIN:STANDARD
TZNAME:CST
DTSTART:20231105T020000
TZOFFSETFROM:-0500
TZOFFSETTO:-0600
RDATE:20241103T020000
RDATE:20251102T020000
END:STANDARD
BEGIN:DAYLIGHT
TZNAME:CDT
DTSTART:20240310T020000
TZOFFSETFROM:-0600
TZOFFSETTO:-0500
RDATE:20250309T020000
END:DAYLIGHT
END:VTIMEZONE
BEGIN:VEVENT
UID:55b73d65-e424-4954-b79b-a7a7ee5d9e05
DTSTAMP:20260424T004355Z
DESCRIPTION:
DTSTART;TZID=America/Chicago:20240506T150000
DTEND;TZID=America/Chicago:20240506T160000
LOCATION:
SUMMARY:Cheer
END:VEVENT
END:VCALENDAR
