BEGIN:VCALENDAR
VERSION:2.0
PRODID:-//tandcschool.org//NONSGML kigkonsult.se iCalcreator 2.30.10//
CALSCALE:GREGORIAN
METHOD:PUBLISH
UID:1c2818b1-01a5-4fb8-84b7-3e3c325247f9
X-WR-CALDESC:No School
X-WR-RELCALID:7852c061afa737c3dfeba6cc77d5ed61
X-WR-TIMEZONE:America/Chicago
BEGIN:VTIMEZONE
TZID:America/Chicago
BEGIN:STANDARD
TZNAME:CST
DTSTART:20231105T020000
TZOFFSETFROM:-0500
TZOFFSETTO:-0600
RDATE:20241103T020000
RDATE:20251102T020000
END:STANDARD
BEGIN:DAYLIGHT
TZNAME:CDT
DTSTART:20240310T020000
TZOFFSETFROM:-0600
TZOFFSETTO:-0500
RDATE:20250309T020000
END:DAYLIGHT
END:VTIMEZONE
BEGIN:VEVENT
UID:2c20da75-7544-48a2-b997-c74b41c0c854
DTSTAMP:20260424T003933Z
DESCRIPTION:No School
DTSTART;TZID=America/Chicago:20240503T000000
DTEND;TZID=America/Chicago:20240503T235900
LOCATION:
SUMMARY:PEC Conferences
END:VEVENT
END:VCALENDAR
