BEGIN:VCALENDAR
VERSION:2.0
PRODID:-//tandcschool.org//NONSGML kigkonsult.se iCalcreator 2.30.10//
CALSCALE:GREGORIAN
METHOD:PUBLISH
UID:82a69274-ec76-4605-9d7f-d319f06ad35c
X-WR-CALDESC:
X-WR-RELCALID:d92d13fb0539ebe10757f62074707ff5
X-WR-TIMEZONE:America/Chicago
BEGIN:VTIMEZONE
TZID:America/Chicago
BEGIN:STANDARD
TZNAME:CST
DTSTART:20231105T020000
TZOFFSETFROM:-0500
TZOFFSETTO:-0600
RDATE:20241103T020000
END:STANDARD
BEGIN:DAYLIGHT
TZNAME:CDT
DTSTART:20240310T020000
TZOFFSETFROM:-0600
TZOFFSETTO:-0500
RDATE:20250309T020000
END:DAYLIGHT
END:VTIMEZONE
BEGIN:VEVENT
UID:3eb53810-ffeb-4dba-9abe-402e4959d218
DTSTAMP:20260424T004310Z
DESCRIPTION:
DTSTART;TZID=America/Chicago:20240502T050000
DTEND;TZID=America/Chicago:20240502T050001
LOCATION:
SUMMARY:Senior- Senior (Elderly) Day
END:VEVENT
END:VCALENDAR
