BEGIN:VCALENDAR
VERSION:2.0
PRODID:-//tandcschool.org//NONSGML kigkonsult.se iCalcreator 2.30.10//
CALSCALE:GREGORIAN
METHOD:PUBLISH
UID:5c39c61a-7a85-420c-bedb-e2da267233b8
X-WR-CALDESC:
X-WR-RELCALID:84905603b3f7bd9e4d57f5ae2a64e666
X-WR-TIMEZONE:America/Chicago
BEGIN:VTIMEZONE
TZID:America/Chicago
BEGIN:STANDARD
TZNAME:CST
DTSTART:20231105T020000
TZOFFSETFROM:-0500
TZOFFSETTO:-0600
RDATE:20241103T020000
END:STANDARD
BEGIN:DAYLIGHT
TZNAME:CDT
DTSTART:20240310T020000
TZOFFSETFROM:-0600
TZOFFSETTO:-0500
RDATE:20250309T020000
END:DAYLIGHT
END:VTIMEZONE
BEGIN:VEVENT
UID:a2d96edc-3915-4796-aa09-b951a9a90f84
DTSTAMP:20260424T004315Z
DESCRIPTION:
DTSTART;TZID=America/Chicago:20240502T123000
DTEND;TZID=America/Chicago:20240502T140000
LOCATION:
SUMMARY:Senior Dodgeball
END:VEVENT
END:VCALENDAR
