BEGIN:VCALENDAR
VERSION:2.0
PRODID:-//tandcschool.org//NONSGML kigkonsult.se iCalcreator 2.30.10//
CALSCALE:GREGORIAN
METHOD:PUBLISH
UID:e9c02962-9a95-4ef6-8e78-cbd8bd846f03
X-WR-CALDESC:
X-WR-RELCALID:67ebd8d8a3e8d801e666702b25441fa0
X-WR-TIMEZONE:America/Chicago
BEGIN:VTIMEZONE
TZID:America/Chicago
BEGIN:STANDARD
TZNAME:CST
DTSTART:20231105T020000
TZOFFSETFROM:-0500
TZOFFSETTO:-0600
RDATE:20241103T020000
END:STANDARD
BEGIN:DAYLIGHT
TZNAME:CDT
DTSTART:20240310T020000
TZOFFSETFROM:-0600
TZOFFSETTO:-0500
RDATE:20250309T020000
END:DAYLIGHT
END:VTIMEZONE
BEGIN:VEVENT
UID:6235687a-8c81-4b87-93ea-75b0a49dedc1
DTSTAMP:20260424T004150Z
DESCRIPTION:
DTSTART;TZID=America/Chicago:20240502T150000
DTEND;TZID=America/Chicago:20240502T154500
LOCATION:
SUMMARY:MS Running Club
END:VEVENT
END:VCALENDAR
