BEGIN:VCALENDAR
VERSION:2.0
PRODID:-//tandcschool.org//NONSGML kigkonsult.se iCalcreator 2.30.10//
CALSCALE:GREGORIAN
METHOD:PUBLISH
UID:8a38b861-3c9c-4f7c-9fa3-ea65ad218944
X-WR-CALDESC:
X-WR-RELCALID:250d755c590e2fc2e9f00306b180a671
X-WR-TIMEZONE:America/Chicago
BEGIN:VTIMEZONE
TZID:America/Chicago
BEGIN:STANDARD
TZNAME:CST
DTSTART:20231105T020000
TZOFFSETFROM:-0500
TZOFFSETTO:-0600
RDATE:20241103T020000
END:STANDARD
BEGIN:DAYLIGHT
TZNAME:CDT
DTSTART:20240310T020000
TZOFFSETFROM:-0600
TZOFFSETTO:-0500
RDATE:20250309T020000
END:DAYLIGHT
END:VTIMEZONE
BEGIN:VEVENT
UID:a5f46c48-d979-4c76-b800-c8e2716df009
DTSTAMP:20260424T004215Z
DESCRIPTION:
DTSTART;TZID=America/Chicago:20240502T000000
DTEND;TZID=America/Chicago:20240502T235900
LOCATION:
SUMMARY:Fast Food Friday
END:VEVENT
END:VCALENDAR
