BEGIN:VCALENDAR
VERSION:2.0
PRODID:-//tandcschool.org//NONSGML kigkonsult.se iCalcreator 2.30.10//
CALSCALE:GREGORIAN
METHOD:PUBLISH
UID:8fb790ff-b64c-47a4-b812-843f2e8daf9e
X-WR-CALDESC:
X-WR-RELCALID:e312001b69eb38c47ba928ad8bf495f0
X-WR-TIMEZONE:America/Chicago
BEGIN:VTIMEZONE
TZID:America/Chicago
BEGIN:STANDARD
TZNAME:CST
DTSTART:20231105T020000
TZOFFSETFROM:-0500
TZOFFSETTO:-0600
RDATE:20241103T020000
END:STANDARD
BEGIN:DAYLIGHT
TZNAME:CDT
DTSTART:20240310T020000
TZOFFSETFROM:-0600
TZOFFSETTO:-0500
RDATE:20250309T020000
END:DAYLIGHT
END:VTIMEZONE
BEGIN:VEVENT
UID:5e290e3f-84c0-45ec-ab80-135811eb76c6
DTSTAMP:20260424T003958Z
DESCRIPTION:
DTSTART;TZID=America/Chicago:20240502T151500
DTEND;TZID=America/Chicago:20240502T160000
LOCATION:
SUMMARY:Band
END:VEVENT
END:VCALENDAR
