BEGIN:VCALENDAR
VERSION:2.0
PRODID:-//tandcschool.org//NONSGML kigkonsult.se iCalcreator 2.30.10//
CALSCALE:GREGORIAN
METHOD:PUBLISH
UID:ff636add-0b12-48cc-a7ae-b90cfbae428d
X-WR-CALDESC:
X-WR-RELCALID:42d94b223e87f456827eb47c49e81e41
X-WR-TIMEZONE:America/Chicago
BEGIN:VTIMEZONE
TZID:America/Chicago
BEGIN:STANDARD
TZNAME:CST
DTSTART:20231105T020000
TZOFFSETFROM:-0500
TZOFFSETTO:-0600
RDATE:20241103T020000
END:STANDARD
BEGIN:DAYLIGHT
TZNAME:CDT
DTSTART:20240310T020000
TZOFFSETFROM:-0600
TZOFFSETTO:-0500
RDATE:20250309T020000
END:DAYLIGHT
END:VTIMEZONE
BEGIN:VEVENT
UID:fdc9d312-3029-4b9e-b76b-1fe2dbd8744b
DTSTAMP:20260424T004156Z
DESCRIPTION:
DTSTART;TZID=America/Chicago:20240501T050000
DTEND;TZID=America/Chicago:20240501T050001
LOCATION:
SUMMARY:Senior Trend Day
END:VEVENT
END:VCALENDAR
