BEGIN:VCALENDAR
VERSION:2.0
PRODID:-//tandcschool.org//NONSGML kigkonsult.se iCalcreator 2.30.10//
CALSCALE:GREGORIAN
METHOD:PUBLISH
UID:614f5eaf-b7b8-49f0-a9c3-1462fedaa65c
X-WR-CALDESC:
X-WR-RELCALID:3176fbb009cc69008f28709f41b9b539
X-WR-TIMEZONE:America/Chicago
BEGIN:VTIMEZONE
TZID:America/Chicago
BEGIN:STANDARD
TZNAME:CST
DTSTART:20231105T020000
TZOFFSETFROM:-0500
TZOFFSETTO:-0600
RDATE:20241103T020000
END:STANDARD
BEGIN:DAYLIGHT
TZNAME:CDT
DTSTART:20240310T020000
TZOFFSETFROM:-0600
TZOFFSETTO:-0500
RDATE:20250309T020000
END:DAYLIGHT
END:VTIMEZONE
BEGIN:VEVENT
UID:6e93b537-d0f5-4747-8dd0-864b951a2bad
DTSTAMP:20260424T004506Z
DESCRIPTION:
DTSTART;TZID=America/Chicago:20240501T152000
DTEND;TZID=America/Chicago:20240501T160000
LOCATION:
SUMMARY:Production Club Party
END:VEVENT
END:VCALENDAR
