BEGIN:VCALENDAR
VERSION:2.0
PRODID:-//tandcschool.org//NONSGML kigkonsult.se iCalcreator 2.30.10//
CALSCALE:GREGORIAN
METHOD:PUBLISH
UID:9aaeda58-f199-4f55-b763-d11946ff177d
X-WR-CALDESC:
X-WR-RELCALID:71bca119f78de520b6cab3eac16f8656
X-WR-TIMEZONE:America/Chicago
BEGIN:VTIMEZONE
TZID:America/Chicago
BEGIN:STANDARD
TZNAME:CST
DTSTART:20231105T020000
TZOFFSETFROM:-0500
TZOFFSETTO:-0600
RDATE:20241103T020000
END:STANDARD
BEGIN:DAYLIGHT
TZNAME:CDT
DTSTART:20240310T020000
TZOFFSETFROM:-0600
TZOFFSETTO:-0500
RDATE:20250309T020000
END:DAYLIGHT
END:VTIMEZONE
BEGIN:VEVENT
UID:42c8ecb3-f88d-4c35-87d7-db8a419c2294
DTSTAMP:20260424T004117Z
DESCRIPTION:
DTSTART;TZID=America/Chicago:20240501T081500
DTEND;TZID=America/Chicago:20240501T091500
LOCATION:
SUMMARY:8th Grade Move Up Day
END:VEVENT
END:VCALENDAR
