BEGIN:VCALENDAR
VERSION:2.0
PRODID:-//tandcschool.org//NONSGML kigkonsult.se iCalcreator 2.30.10//
CALSCALE:GREGORIAN
METHOD:PUBLISH
UID:b0480323-c6a1-4998-9e4e-bad7f40a1807
X-WR-CALDESC:
X-WR-RELCALID:7c0f438ad1f1facc6808b4107931bf4e
X-WR-TIMEZONE:America/Chicago
BEGIN:VTIMEZONE
TZID:America/Chicago
BEGIN:STANDARD
TZNAME:CST
DTSTART:20231105T020000
TZOFFSETFROM:-0500
TZOFFSETTO:-0600
RDATE:20241103T020000
END:STANDARD
BEGIN:DAYLIGHT
TZNAME:CDT
DTSTART:20240310T020000
TZOFFSETFROM:-0600
TZOFFSETTO:-0500
RDATE:20250309T020000
END:DAYLIGHT
END:VTIMEZONE
BEGIN:VEVENT
UID:35ba4cb4-0b70-49be-b381-aac9f8b1d4cb
DTSTAMP:20260424T004116Z
DESCRIPTION:
DTSTART;TZID=America/Chicago:20240501T140000
DTEND;TZID=America/Chicago:20240501T151500
LOCATION:
SUMMARY:6th Grade Move Up Day
END:VEVENT
END:VCALENDAR
