BEGIN:VCALENDAR
VERSION:2.0
PRODID:-//tandcschool.org//NONSGML kigkonsult.se iCalcreator 2.30.10//
CALSCALE:GREGORIAN
METHOD:PUBLISH
UID:455a5f41-0a01-4e90-84f0-af254153860f
X-WR-CALDESC:
X-WR-RELCALID:aabf1c24548e99182752a5f6a74d9681
X-WR-TIMEZONE:America/Chicago
BEGIN:VTIMEZONE
TZID:America/Chicago
BEGIN:STANDARD
TZNAME:CST
DTSTART:20231105T020000
TZOFFSETFROM:-0500
TZOFFSETTO:-0600
RDATE:20241103T020000
END:STANDARD
BEGIN:DAYLIGHT
TZNAME:CDT
DTSTART:20240310T020000
TZOFFSETFROM:-0600
TZOFFSETTO:-0500
RDATE:20250309T020000
END:DAYLIGHT
END:VTIMEZONE
BEGIN:VEVENT
UID:0dc9a3ef-1384-48fe-a6be-e976e754b14f
DTSTAMP:20260424T004634Z
DESCRIPTION:
DTSTART;TZID=America/Chicago:20240501T150000
DTEND;TZID=America/Chicago:20240501T154500
LOCATION:
SUMMARY:MS & HS Art Club
END:VEVENT
END:VCALENDAR
