BEGIN:VCALENDAR
VERSION:2.0
PRODID:-//tandcschool.org//NONSGML kigkonsult.se iCalcreator 2.30.10//
CALSCALE:GREGORIAN
METHOD:PUBLISH
UID:6bc85844-b4c0-4ed6-8d78-610f52faf6ad
X-WR-CALDESC:
X-WR-RELCALID:cc007f8b7f3755e4574d96666c476780
X-WR-TIMEZONE:America/Chicago
BEGIN:VTIMEZONE
TZID:America/Chicago
BEGIN:STANDARD
TZNAME:CST
DTSTART:20231105T020000
TZOFFSETFROM:-0500
TZOFFSETTO:-0600
RDATE:20241103T020000
END:STANDARD
BEGIN:DAYLIGHT
TZNAME:CDT
DTSTART:20240310T020000
TZOFFSETFROM:-0600
TZOFFSETTO:-0500
RDATE:20250309T020000
END:DAYLIGHT
END:VTIMEZONE
BEGIN:VEVENT
UID:38eda655-24ef-461b-83a8-a926ad3ed84b
DTSTAMP:20260424T023004Z
DESCRIPTION:
DTSTART;TZID=America/Chicago:20240430T150000
DTEND;TZID=America/Chicago:20240430T154500
LOCATION:
SUMMARY:HS Running Club
END:VEVENT
END:VCALENDAR
