BEGIN:VCALENDAR
VERSION:2.0
PRODID:-//tandcschool.org//NONSGML kigkonsult.se iCalcreator 2.30.10//
CALSCALE:GREGORIAN
METHOD:PUBLISH
UID:45949417-ed98-49e3-8dd8-92e9d4e0e86d
X-WR-CALDESC:Monday- Future Day\nTuesday- Tacky Tourist Day\nWednesday- Tre
 nd Day\nThursday- Senior Day\n\n
X-WR-RELCALID:62c54568c39e9fe830be55515f19cbe7
X-WR-TIMEZONE:America/Chicago
BEGIN:VTIMEZONE
TZID:America/Chicago
BEGIN:STANDARD
TZNAME:CST
DTSTART:20231105T020000
TZOFFSETFROM:-0500
TZOFFSETTO:-0600
RDATE:20241103T020000
END:STANDARD
BEGIN:DAYLIGHT
TZNAME:CDT
DTSTART:20240310T020000
TZOFFSETFROM:-0600
TZOFFSETTO:-0500
RDATE:20250309T020000
END:DAYLIGHT
END:VTIMEZONE
BEGIN:VEVENT
UID:bc95aef3-ec2b-4a40-a2fc-ae7b3d14fd87
DTSTAMP:20260424T022741Z
DESCRIPTION:Monday- Future Day\nTuesday- Tacky Tourist Day\nWednesday- Tren
 d Day\nThursday- Senior Day\n\n
DTSTART;TZID=America/Chicago:20240429T050000
DTEND;TZID=America/Chicago:20240429T050001
LOCATION:
SUMMARY:Senior Spirit Week
END:VEVENT
END:VCALENDAR
