BEGIN:VCALENDAR
VERSION:2.0
PRODID:-//tandcschool.org//NONSGML kigkonsult.se iCalcreator 2.30.10//
CALSCALE:GREGORIAN
METHOD:PUBLISH
UID:faff6128-ef1a-47ec-b399-e50a59a9ee9e
X-WR-CALDESC:
X-WR-RELCALID:07a2f371ede6d5265be0d991963fc298
X-WR-TIMEZONE:America/Chicago
BEGIN:VTIMEZONE
TZID:America/Chicago
BEGIN:STANDARD
TZNAME:CST
DTSTART:20231105T020000
TZOFFSETFROM:-0500
TZOFFSETTO:-0600
RDATE:20241103T020000
END:STANDARD
BEGIN:DAYLIGHT
TZNAME:CDT
DTSTART:20240310T020000
TZOFFSETFROM:-0600
TZOFFSETTO:-0500
RDATE:20250309T020000
END:DAYLIGHT
END:VTIMEZONE
BEGIN:VEVENT
UID:ba5b9563-63be-4fa0-8037-c99fa06cd7d4
DTSTAMP:20260424T022658Z
DESCRIPTION:
DTSTART;TZID=America/Chicago:20240429T081500
DTEND;TZID=America/Chicago:20240429T090000
LOCATION:
SUMMARY:8th Grade Transition Parent Meeting
END:VEVENT
END:VCALENDAR
