BEGIN:VCALENDAR
VERSION:2.0
PRODID:-//tandcschool.org//NONSGML kigkonsult.se iCalcreator 2.30.10//
CALSCALE:GREGORIAN
METHOD:PUBLISH
UID:c016a48d-e6bf-4aae-abc0-fa9ab51a98b6
X-WR-CALDESC:
X-WR-RELCALID:1750e6c4288142620101ba6ad5478630
X-WR-TIMEZONE:America/Chicago
BEGIN:VTIMEZONE
TZID:America/Chicago
BEGIN:STANDARD
TZNAME:CST
DTSTART:20231105T020000
TZOFFSETFROM:-0500
TZOFFSETTO:-0600
RDATE:20241103T020000
END:STANDARD
BEGIN:DAYLIGHT
TZNAME:CDT
DTSTART:20240310T020000
TZOFFSETFROM:-0600
TZOFFSETTO:-0500
RDATE:20250309T020000
END:DAYLIGHT
END:VTIMEZONE
BEGIN:VEVENT
UID:f1151c79-729c-41ac-a903-6e3247b544d0
DTSTAMP:20260424T022603Z
DESCRIPTION:
DTSTART;TZID=America/Chicago:20240429T120000
DTEND;TZID=America/Chicago:20240429T130000
LOCATION:
SUMMARY:6th Grade Parent Meeting
END:VEVENT
END:VCALENDAR
