BEGIN:VCALENDAR
VERSION:2.0
PRODID:-//tandcschool.org//NONSGML kigkonsult.se iCalcreator 2.30.10//
CALSCALE:GREGORIAN
METHOD:PUBLISH
UID:c1ec4ffd-9d1d-43a1-9a04-d3cd4f9659d1
X-WR-CALDESC:
X-WR-RELCALID:e161c3cce759182ecbb063c723c5f325
X-WR-TIMEZONE:America/Chicago
BEGIN:VTIMEZONE
TZID:America/Chicago
BEGIN:STANDARD
TZNAME:CST
DTSTART:20231105T020000
TZOFFSETFROM:-0500
TZOFFSETTO:-0600
RDATE:20241103T020000
END:STANDARD
BEGIN:DAYLIGHT
TZNAME:CDT
DTSTART:20240310T020000
TZOFFSETFROM:-0600
TZOFFSETTO:-0500
RDATE:20250309T020000
END:DAYLIGHT
END:VTIMEZONE
BEGIN:VEVENT
UID:1c6bab8c-70de-4839-8536-ecacff313cbf
DTSTAMP:20260424T022851Z
DESCRIPTION:
DTSTART;TZID=America/Chicago:20240429T150000
DTEND;TZID=America/Chicago:20240429T154500
LOCATION:
SUMMARY:Chess Club
END:VEVENT
END:VCALENDAR
