BEGIN:VCALENDAR
VERSION:2.0
PRODID:-//tandcschool.org//NONSGML kigkonsult.se iCalcreator 2.30.10//
CALSCALE:GREGORIAN
METHOD:PUBLISH
UID:ad5e504d-955a-4e77-8bdd-ccef9c182397
X-WR-CALDESC:LS Dismiss at 12PM\nUS Dismiss at 12:25PM\nNo Aftercare
X-WR-RELCALID:66392e46bba174bb03256e900835927d
X-WR-TIMEZONE:America/Chicago
BEGIN:VTIMEZONE
TZID:America/Chicago
BEGIN:STANDARD
TZNAME:CST
DTSTART:20231105T020000
TZOFFSETFROM:-0500
TZOFFSETTO:-0600
RDATE:20241103T020000
END:STANDARD
BEGIN:DAYLIGHT
TZNAME:CDT
DTSTART:20240310T020000
TZOFFSETFROM:-0600
TZOFFSETTO:-0500
RDATE:20250309T020000
END:DAYLIGHT
END:VTIMEZONE
BEGIN:VEVENT
UID:2f93ab47-81eb-4369-9737-b3189f611da4
DTSTAMP:20260424T022204Z
DESCRIPTION:LS Dismiss at 12PM\nUS Dismiss at 12:25PM\nNo Aftercare
DTSTART;TZID=America/Chicago:20240426T050000
DTEND;TZID=America/Chicago:20240426T050001
LOCATION:
SUMMARY:Half Day
END:VEVENT
END:VCALENDAR
