BEGIN:VCALENDAR
VERSION:2.0
PRODID:-//tandcschool.org//NONSGML kigkonsult.se iCalcreator 2.30.10//
CALSCALE:GREGORIAN
METHOD:PUBLISH
UID:1824ba48-5003-4639-8753-31ecc988f6e8
X-WR-CALDESC:
X-WR-RELCALID:57d12fad32b183a9e29c97a827d033af
X-WR-TIMEZONE:America/Chicago
BEGIN:VTIMEZONE
TZID:America/Chicago
BEGIN:STANDARD
TZNAME:CST
DTSTART:20231105T020000
TZOFFSETFROM:-0500
TZOFFSETTO:-0600
RDATE:20241103T020000
END:STANDARD
BEGIN:DAYLIGHT
TZNAME:CDT
DTSTART:20240310T020000
TZOFFSETFROM:-0600
TZOFFSETTO:-0500
RDATE:20250309T020000
END:DAYLIGHT
END:VTIMEZONE
BEGIN:VEVENT
UID:1627ee51-f4aa-411d-883c-30f00d64b83e
DTSTAMP:20260424T023046Z
DESCRIPTION:
DTSTART;TZID=America/Chicago:20240425T152000
DTEND;TZID=America/Chicago:20240425T160000
LOCATION:
SUMMARY:LS Running Club
END:VEVENT
END:VCALENDAR
