BEGIN:VCALENDAR
VERSION:2.0
PRODID:-//tandcschool.org//NONSGML kigkonsult.se iCalcreator 2.30.10//
CALSCALE:GREGORIAN
METHOD:PUBLISH
UID:14835338-9c93-4f7c-8238-7ad15cdb5904
X-WR-CALDESC:
X-WR-RELCALID:8974e665cde909480ac2032150e25520
X-WR-TIMEZONE:America/Chicago
BEGIN:VTIMEZONE
TZID:America/Chicago
BEGIN:STANDARD
TZNAME:CST
DTSTART:20231105T020000
TZOFFSETFROM:-0500
TZOFFSETTO:-0600
RDATE:20241103T020000
END:STANDARD
BEGIN:DAYLIGHT
TZNAME:CDT
DTSTART:20240310T020000
TZOFFSETFROM:-0600
TZOFFSETTO:-0500
RDATE:20250309T020000
END:DAYLIGHT
END:VTIMEZONE
BEGIN:VEVENT
UID:7efa060c-16f3-4b44-baac-1cbf384f92ff
DTSTAMP:20260424T022917Z
DESCRIPTION:
DTSTART;TZID=America/Chicago:20240425T150000
DTEND;TZID=America/Chicago:20240425T154500
LOCATION:
SUMMARY:MS Running Club
END:VEVENT
END:VCALENDAR
