BEGIN:VCALENDAR
VERSION:2.0
PRODID:-//tandcschool.org//NONSGML kigkonsult.se iCalcreator 2.30.10//
CALSCALE:GREGORIAN
METHOD:PUBLISH
UID:fc934c25-8171-463c-9a1e-5abbe88755e4
X-WR-CALDESC:
X-WR-RELCALID:cdc36f79bab706daa792de2fb2b7aa6a
X-WR-TIMEZONE:America/Chicago
BEGIN:VTIMEZONE
TZID:America/Chicago
BEGIN:STANDARD
TZNAME:CST
DTSTART:20231105T020000
TZOFFSETFROM:-0500
TZOFFSETTO:-0600
RDATE:20241103T020000
END:STANDARD
BEGIN:DAYLIGHT
TZNAME:CDT
DTSTART:20240310T020000
TZOFFSETFROM:-0600
TZOFFSETTO:-0500
RDATE:20250309T020000
END:DAYLIGHT
END:VTIMEZONE
BEGIN:VEVENT
UID:8b2420f6-ec8a-4ea4-a128-604a45611b77
DTSTAMP:20260424T023307Z
DESCRIPTION:
DTSTART;TZID=America/Chicago:20240424T163000
DTEND;TZID=America/Chicago:20240424T180000
LOCATION:Incredible Pizza
SUMMARY:T&C Knights Basketball and Cheer Party
END:VEVENT
END:VCALENDAR
