BEGIN:VCALENDAR
VERSION:2.0
PRODID:-//tandcschool.org//NONSGML kigkonsult.se iCalcreator 2.30.10//
CALSCALE:GREGORIAN
METHOD:PUBLISH
UID:28d65e60-fa94-493d-8ef9-779d77260ebd
X-WR-CALDESC:
X-WR-RELCALID:4253d47174564de41367042dff8f2e7a
X-WR-TIMEZONE:America/Chicago
BEGIN:VTIMEZONE
TZID:America/Chicago
BEGIN:STANDARD
TZNAME:CST
DTSTART:20231105T020000
TZOFFSETFROM:-0500
TZOFFSETTO:-0600
RDATE:20241103T020000
END:STANDARD
BEGIN:DAYLIGHT
TZNAME:CDT
DTSTART:20240310T020000
TZOFFSETFROM:-0600
TZOFFSETTO:-0500
RDATE:20250309T020000
END:DAYLIGHT
END:VTIMEZONE
BEGIN:VEVENT
UID:37b54cb0-aedd-4132-944e-d7e18b5894a5
DTSTAMP:20260424T022407Z
DESCRIPTION:
DTSTART;TZID=America/Chicago:20240424T050000
DTEND;TZID=America/Chicago:20240424T050001
LOCATION:
SUMMARY:Senior Lunch
END:VEVENT
END:VCALENDAR
